BEGIN:VCALENDAR
VERSION:2.0
PRODID:-//Eventin//Event Calendar//EN
CALSCALE:GREGORIAN
METHOD:PUBLISH
BEGIN:VEVENT
UID:d41714959f5af7ac1f1cccb2bbfa0a00@events.sisscholarships.com
SUMMARY:Prueba GRATIS Fútbol USA Valencia  (Masculino y Femenino) – Mié
 rcoles\, 1 de Mayo de 2026 – Showcase 2026
DESCRIPTION:Selección de Atletas Estudiantes – Rumbo al Showcase 2026\n\
 n \nÚnete al Canal Oficial de Whastapp del evento y entérate al momento 
 cambios y novedades: https://whatsapp.com/channel/0029VbAmOZ4AojYx8IWlKp24
  \n \n\nDescripción: ¡Prepárate para mostrar tu talento!\n\nInscríbet
 e en el evento de selección de atletas en Valencia el Miércoles\, 1 de Ma
 yo  de 2026!! \nEl objetivo de este evento es identificar a los estudiante
 s-atletas interesados en estudiar en los Estados Unidos mediante becas depo
 rtivas y académicas\, y acceder a nuestros programas Showcase (nivel uni
 versitario) y/o High School (para finalizar la secundaria en Estados Unido
 s). A través de este evento\, podrás tener acceso a una plaza en nuestro 
 programa Showcase\, que se llevará a cabo en julio de 2026.\n\n \n\nSIS S
 CHOLARSHIPS (SIS Becas) PRUEBAS DE FÚTBOL Valencia – Domingo\, 4 de Ener
 o de 2026\n\nSomos SIS Scholarships\, y facilitamos las conexiones entre es
 tudiantes e instituciones\, haciendo que la educación en los EE.UU. sea m
 ás accesible económicamente.\n\nTe invitamos a nuestra prueba gratuita en
  Valencia. Esta prueba nos permitirá evaluar tus habilidades deportivas y 
 ayudarte a avanzar en nuestro proceso para obtener uno de los 200 lugares e
 n nuestro 11º SHOWCASE INTERNACIONAL\, que se llevará a cabo en Madrid. A
 llí\, podrías obtener becas parciales o completas.\n \n\nDetalles:\n\n
 📍 Lugar:\nValencia - Campo de Fútbol C.D El Rumbo\nAv. de Manuel de Fal
 la\, 41\, L'Olivereta\, 46035 València\, Valencia\n(click para ver en goog
 le maps )\n\n🗓 Fecha: Miércoles\, 1 de Mayo de 2026\n\nHora de registro
 : 10:30hInicio del evento: 11:00hFin del evento: 13:00h\nEdad Mínima para
  la prueba: 14 años cumplidos\nRango de Edad:  14-26 años \n \n\n🎥 
 SHOWCASE VIDEO:https://www.youtube.com/watch?v=9iRvlTFVIFk\n\n🎥 PROCESS 
 VIDEO:https://youtu.be/CicYcXu8HOI?si=6ZQ6EMRRy6to1NiN\n\n🌐 WEBSITE:www.
 sisscholarships.com\n\n📱 SOCIAL MEDIA:\n\n\nInstagram: @sisbecas @sissc
 holarships @becasenusa\n\nTikTok: sis.scholarships\nWhatsapp Channel:  ht
 tps://whatsapp.com/channel/0029VbAmOZ4AojYx8IWlKp24 \n\n\n 
LOCATION:Valencia - Campo de Fútbol C.D El Rumbo  (Av. de Manuel de Falla\
 , 41\, L'Olivereta\, 46035 València\, Valencia)
DTSTAMP:20260421T082156Z
DTSTART:20260501T083000Z
DTEND:20260501T110000Z
END:VEVENT
END:VCALENDAR
